BEGIN:VCALENDAR
VERSION:2.0
PRODID:-//Cedar River Bowmen Archery Club - ECPv6.15.20//NONSGML v1.0//EN
CALSCALE:GREGORIAN
METHOD:PUBLISH
X-ORIGINAL-URL:https://cedarriverbowmen.org
X-WR-CALDESC:Events for Cedar River Bowmen Archery Club
REFRESH-INTERVAL;VALUE=DURATION:PT1H
X-Robots-Tag:noindex
X-PUBLISHED-TTL:PT1H
BEGIN:VTIMEZONE
TZID:America/Los_Angeles
BEGIN:DAYLIGHT
TZOFFSETFROM:-0800
TZOFFSETTO:-0700
TZNAME:PDT
DTSTART:20250309T100000
END:DAYLIGHT
BEGIN:STANDARD
TZOFFSETFROM:-0700
TZOFFSETTO:-0800
TZNAME:PST
DTSTART:20251102T090000
END:STANDARD
BEGIN:DAYLIGHT
TZOFFSETFROM:-0800
TZOFFSETTO:-0700
TZNAME:PDT
DTSTART:20260308T100000
END:DAYLIGHT
BEGIN:STANDARD
TZOFFSETFROM:-0700
TZOFFSETTO:-0800
TZNAME:PST
DTSTART:20261101T090000
END:STANDARD
BEGIN:DAYLIGHT
TZOFFSETFROM:-0800
TZOFFSETTO:-0700
TZNAME:PDT
DTSTART:20270314T100000
END:DAYLIGHT
BEGIN:STANDARD
TZOFFSETFROM:-0700
TZOFFSETTO:-0800
TZNAME:PST
DTSTART:20271107T090000
END:STANDARD
END:VTIMEZONE
BEGIN:VEVENT
DTSTART;TZID=America/Los_Angeles:20260808T090000
DTEND;TZID=America/Los_Angeles:20260808T130000
DTSTAMP:20260423T145944
CREATED:20251010T230655Z
LAST-MODIFIED:20251113T223717Z
UID:500-1786179600-1786194000@cedarriverbowmen.org
SUMMARY:Work Party
DESCRIPTION:🎉WORK PARTY🎉\nWe’re all in this together! As a member of the Club\, your time and talents are incredibly valuable. Whether you’re handy with tools\, good at organizing\, or just willing to lend a hand\, there’s a role for everyone at our work parties. These gatherings are a great way to connect with fellow members while helping to keep our club safe\, clean\, and running smoothly.\nPlease note: For safety\, all Courses—including the Clubhouse\, Flat Range\, Broadhead Range\, and Indoor Range—will be closed to shooting during work parties and until all work is finished. Thanks for understanding! \nThere will be a sign in & out sheet in the Clubhouse or at the Registration Booth.\nPlease make sure you sign in and out to get credit for your hours. \n  \nTask List:\n\n\nWALK THROUGH COURSES: This Winter and Spring has seen numerous trees come down on ALL courses. “Buck Up” (cut 24″ – 28″ long)” DOWNED trees (only) along trails and shooting lanes. Stack up that wood just off the trails to be taken to the firewood shed to be split and stacked.\n\nRemove debris\, branches\, and leaves from trails\, shooting lanes\, and around target sheds.\nStack any trimmings or branches from walk through courses in the designated burn pile located by the clubhouse\nClean up any mess or garbage and dispose of garbage.\nRemove firewood from courses\, split\, and stack on left side of firewood shed.\n\n\n\nCLUBHOUSE\, COOK SHACK\, REGISTRATION BOOTH\, CAMP SITES\, KIDS’ PLAY AREA\, AND FIREWOOD SHED: \n\nStack any trimmings or branches in the designated burn pile located by the clubhouse. Clubhouse firewood box should be full at all times.\nClean up any mess or garbage and dispose of garbage.\nSplit and stack any firewood by the firewood shed needing it.\n\n\n\nFLAT RANGE AND SAND PITS:\n\nWeed-eat and trim flat range perimeter back as much as possible. \nStack any trimmings or branches in the designated burn pile located by the clubhouse.\nWeed-eat\, trim\, and clean up around and in the sand pits. \nClean up any mess or garbage and dispose of garbage.\n\n\nMAIN ROADWAY\n\nPrune any overhead low hanging branches (For RVs).\nStack any trimmings or branches in the designated burn pile located by the clubhouse.\nMain roadway potholes can be filled and packed as needed using the gravel piles by “B3”. A shovel\, gravel rake and wheelbarrow (or 5-gallon buckets) will be needed. If asphalt pile is used a pick will also be needed.\nClean up any mess or garbage and dispose of garbage.\n\n\n\nThank you!\nYour hard work and dedication is what makes Cedar River Bowman Archery Club what it is today! We wouldn’t have a club without you.
URL:https://cedarriverbowmen.org/event/work-party-12/
LOCATION:Cedar River Bowman Archery Club\, 37892 Enumclaw Franklin Road SE\, Enumclaw\, WA\, 98022\, United States
END:VEVENT
END:VCALENDAR