BEGIN:VCALENDAR
VERSION:2.0
PRODID:-//Cedar River Bowmen Archery Club - ECPv6.15.20//NONSGML v1.0//EN
CALSCALE:GREGORIAN
METHOD:PUBLISH
X-ORIGINAL-URL:https://cedarriverbowmen.org
X-WR-CALDESC:Events for Cedar River Bowmen Archery Club
REFRESH-INTERVAL;VALUE=DURATION:PT1H
X-Robots-Tag:noindex
X-PUBLISHED-TTL:PT1H
BEGIN:VTIMEZONE
TZID:America/Los_Angeles
BEGIN:DAYLIGHT
TZOFFSETFROM:-0800
TZOFFSETTO:-0700
TZNAME:PDT
DTSTART:20250309T100000
END:DAYLIGHT
BEGIN:STANDARD
TZOFFSETFROM:-0700
TZOFFSETTO:-0800
TZNAME:PST
DTSTART:20251102T090000
END:STANDARD
BEGIN:DAYLIGHT
TZOFFSETFROM:-0800
TZOFFSETTO:-0700
TZNAME:PDT
DTSTART:20260308T100000
END:DAYLIGHT
BEGIN:STANDARD
TZOFFSETFROM:-0700
TZOFFSETTO:-0800
TZNAME:PST
DTSTART:20261101T090000
END:STANDARD
BEGIN:DAYLIGHT
TZOFFSETFROM:-0800
TZOFFSETTO:-0700
TZNAME:PDT
DTSTART:20270314T100000
END:DAYLIGHT
BEGIN:STANDARD
TZOFFSETFROM:-0700
TZOFFSETTO:-0800
TZNAME:PST
DTSTART:20271107T090000
END:STANDARD
END:VTIMEZONE
BEGIN:VEVENT
DTSTART;TZID=America/Los_Angeles:20260424T090000
DTEND;TZID=America/Los_Angeles:20260424T130000
DTSTAMP:20260423T092832
CREATED:20251028T204959Z
LAST-MODIFIED:20251122T214645Z
UID:613-1777021200-1777035600@cedarriverbowmen.org
SUMMARY:Redding Warm Up and Buckle Shoot - Set Up
DESCRIPTION:Set up starts at 9:00AM. Come volunteer to help set up the course for our upcoming archery shoot! If you can lend a hand\, we’d love your help. Many hands make light work — and it’s a great way to spend some time with fellow members before the event! \n  \nThere will be a sign in & out sheet in the Clubhouse or at the Registration Booth.\nPlease make sure you sign in and out to get credit for your hours.
URL:https://cedarriverbowmen.org/event/redding-warm-up-and-buckle-shoot-set-up/
LOCATION:Cedar River Bowman Archery Club\, 37892 Enumclaw Franklin Road SE\, Enumclaw\, WA\, 98022\, United States
END:VEVENT
BEGIN:VEVENT
DTSTART;TZID=America/Los_Angeles:20260426T143000
DTEND;TZID=America/Los_Angeles:20260426T170000
DTSTAMP:20260423T092832
CREATED:20251028T205406Z
LAST-MODIFIED:20251122T214634Z
UID:616-1777213800-1777222800@cedarriverbowmen.org
SUMMARY:Redding Warm Up and Buckle Shoot - Tear Down
DESCRIPTION:Tear down starts at 2:30PM. Come volunteer to help tear down courses! If you can lend a hand\, we’d love your help. Many hands make light work — and it’s a great way to meet other members of the club! \n  \nThere will be a sign in & out sheet in the Clubhouse or at the Registration Booth.\nPlease make sure you sign in and out to get credit for your hours.
URL:https://cedarriverbowmen.org/event/redding-warm-up-and-buckle-shoot-tear-down/
LOCATION:Cedar River Bowman Archery Club\, 37892 Enumclaw Franklin Road SE\, Enumclaw\, WA\, 98022\, United States
END:VEVENT
BEGIN:VEVENT
DTSTART;TZID=America/Los_Angeles:20260623T080000
DTEND;TZID=America/Los_Angeles:20260626T170000
DTSTAMP:20260423T092832
CREATED:20251121T234517Z
LAST-MODIFIED:20251122T214559Z
UID:859-1782201600-1782493200@cedarriverbowmen.org
SUMMARY:Bownanza - Set Up
DESCRIPTION:All courses closed at 430 PM on June 23rd until 12PM on June 26th. \n  \nIt’s almost time for Cedar River Bowmen’s biggest event of the year—Bownanza—and we need helping hands to get everything ready! Join us for a fun\, community-driven setup weekend as we prepare the courses for this major shoot. \nVolunteers are welcome to bring RVs\, campers\, or tents and stay on-site throughout the setup days and during Bownanza. \nWhether you can help for a day or the whole week\, every bit of help makes a difference. Come camp\, hang out\, and help us get ready for an amazing Bownanza!
URL:https://cedarriverbowmen.org/event/bownanza-set-up/
LOCATION:Cedar River Bowman Archery Club\, 37892 Enumclaw Franklin Road SE\, Enumclaw\, WA\, 98022\, United States
END:VEVENT
BEGIN:VEVENT
DTSTART;TZID=America/Los_Angeles:20260926T133000
DTEND;TZID=America/Los_Angeles:20260926T170000
DTSTAMP:20260423T092832
CREATED:20251122T215008Z
LAST-MODIFIED:20260308T200550Z
UID:914-1790429400-1790442000@cedarriverbowmen.org
SUMMARY:Rocky Horror Turkey Shoot - Set Up
DESCRIPTION:Set up starts at 1:30PM. Come volunteer to help set up the course for our upcoming archery shoot! If you can lend a hand\, we’d love your help. Many hands make light work — and it’s a great way to spend some time with fellow members before the event! \n  \nThere will be a sign in & out sheet in the Clubhouse or at the Registration Booth.\nPlease make sure you sign in and out to get credit for your hours.
URL:https://cedarriverbowmen.org/event/rocky-horror-turkey-shoot-set-up/
LOCATION:Cedar River Bowman Archery Club\, 37892 Enumclaw Franklin Road SE\, Enumclaw\, WA\, 98022\, United States
END:VEVENT
BEGIN:VEVENT
DTSTART;TZID=America/Los_Angeles:20261107T090000
DTEND;TZID=America/Los_Angeles:20261107T130000
DTSTAMP:20260423T092832
CREATED:20251010T230857Z
LAST-MODIFIED:20251113T223549Z
UID:504-1794042000-1794056400@cedarriverbowmen.org
SUMMARY:Work Party
DESCRIPTION:🎉WORK PARTY🎉\nWe’re all in this together! As a member of the Club\, your time and talents are incredibly valuable. Whether you’re handy with tools\, good at organizing\, or just willing to lend a hand\, there’s a role for everyone at our work parties. These gatherings are a great way to connect with fellow members while helping to keep our club safe\, clean\, and running smoothly.\nPlease note: For safety\, all Courses—including the Clubhouse\, Flat Range\, Broadhead Range\, and Indoor Range—will be closed to shooting during work parties and until all work is finished. Thanks for understanding! \nThere will be a sign in & out sheet in the Clubhouse or at the Registration Booth.\nPlease make sure you sign in and out to get credit for your hours. \n  \nTask List:\n\n\nWALK THROUGH COURSES: This Winter and Spring has seen numerous trees come down on ALL courses. “Buck Up” (cut 24″ – 28″ long)” DOWNED trees (only) along trails and shooting lanes. Stack up that wood just off the trails to be taken to the firewood shed to be split and stacked.\n\nRemove debris\, branches\, and leaves from trails\, shooting lanes\, and around target sheds.\nStack any trimmings or branches from walk through courses in the designated burn pile located by the clubhouse\nClean up any mess or garbage and dispose of garbage.\nRemove firewood from courses\, split\, and stack on left side of firewood shed.\n\n\n\nCLUBHOUSE\, COOK SHACK\, REGISTRATION BOOTH\, CAMP SITES\, KIDS’ PLAY AREA\, AND FIREWOOD SHED: \n\nStack any trimmings or branches in the designated burn pile located by the clubhouse. Clubhouse firewood box should be full at all times.\nClean up any mess or garbage and dispose of garbage.\nSplit and stack any firewood by the firewood shed needing it.\n\n\n\nFLAT RANGE AND SAND PITS:\n\nWeed-eat and trim flat range perimeter back as much as possible. \nStack any trimmings or branches in the designated burn pile located by the clubhouse.\nWeed-eat\, trim\, and clean up around and in the sand pits. \nClean up any mess or garbage and dispose of garbage.\n\n\nMAIN ROADWAY\n\nPrune any overhead low hanging branches (For RVs).\nStack any trimmings or branches in the designated burn pile located by the clubhouse.\nMain roadway potholes can be filled and packed as needed using the gravel piles by “B3”. A shovel\, gravel rake and wheelbarrow (or 5-gallon buckets) will be needed. If asphalt pile is used a pick will also be needed.\nClean up any mess or garbage and dispose of garbage.\n\n\n\nThank you!\nYour hard work and dedication is what makes Cedar River Bowman Archery Club what it is today! We wouldn’t have a club without you.
URL:https://cedarriverbowmen.org/event/work-party-14/
LOCATION:Cedar River Bowman Archery Club\, 37892 Enumclaw Franklin Road SE\, Enumclaw\, WA\, 98022\, United States
END:VEVENT
END:VCALENDAR