BEGIN:VCALENDAR
VERSION:2.0
PRODID:-//Cedar River Bowmen Archery Club - ECPv6.15.20//NONSGML v1.0//EN
CALSCALE:GREGORIAN
METHOD:PUBLISH
X-ORIGINAL-URL:https://cedarriverbowmen.org
X-WR-CALDESC:Events for Cedar River Bowmen Archery Club
REFRESH-INTERVAL;VALUE=DURATION:PT1H
X-Robots-Tag:noindex
X-PUBLISHED-TTL:PT1H
BEGIN:VTIMEZONE
TZID:America/Los_Angeles
BEGIN:DAYLIGHT
TZOFFSETFROM:-0800
TZOFFSETTO:-0700
TZNAME:PDT
DTSTART:20240310T100000
END:DAYLIGHT
BEGIN:STANDARD
TZOFFSETFROM:-0700
TZOFFSETTO:-0800
TZNAME:PST
DTSTART:20241103T090000
END:STANDARD
BEGIN:DAYLIGHT
TZOFFSETFROM:-0800
TZOFFSETTO:-0700
TZNAME:PDT
DTSTART:20250309T100000
END:DAYLIGHT
BEGIN:STANDARD
TZOFFSETFROM:-0700
TZOFFSETTO:-0800
TZNAME:PST
DTSTART:20251102T090000
END:STANDARD
BEGIN:DAYLIGHT
TZOFFSETFROM:-0800
TZOFFSETTO:-0700
TZNAME:PDT
DTSTART:20260308T100000
END:DAYLIGHT
BEGIN:STANDARD
TZOFFSETFROM:-0700
TZOFFSETTO:-0800
TZNAME:PST
DTSTART:20261101T090000
END:STANDARD
END:VTIMEZONE
BEGIN:VEVENT
DTSTART;TZID=America/Los_Angeles:20250816T000000
DTEND;TZID=America/Los_Angeles:20250817T235959
DTSTAMP:20260424T001345
CREATED:20250619T180626Z
LAST-MODIFIED:20250619T181111Z
UID:272-1755302400-1755475199@cedarriverbowmen.org
SUMMARY:Kill Zone Wire Shoot
DESCRIPTION:Time & Dates\nAugust 16th-17th \nSaturday: 7:00 AM to 4:30 PM\nSunday: 7:00 AM to 2:30 PM \nTournament Info\nStay the weekend with free primitive camping! Bring a tent or RV/trailer! \nNormal scoring rings are not in effect at this tournament! To score\, you must press the wire against the animal’s body and make a sweep with the wire to score. If you miss a target = 0! \nThere are 3 courses to choose a starting point. \n\n30 – 3D targets!\n2 Bowhunter Classes: Fixed Pins OR Mover (NO GLASS)\nExtreme Shoot / Poker Run / $10 Buy in for each\n\n Scorecards must be in by 2:30PM \n  \nRange finders OK \nOne (1) arrow from your shooting stake\nAll CRB club rules apply. \n  \nCook Shack\nThe Cook Shack serves breakfast and lunch Saturday and Sunday \n  \nRegistration\n\n\n\n\n1 Day\n2 Day\n\n\nAdult (ages 18-64)\n$20\n$30\n\n\nSenior (64+)\n$15\n$20\n\n\nYoung Adult (15-17)\n$15\n$20\n\n\nYouth (12-14)\n$10\n$15\n\n\nCub (7-11)\n$5\n$10\n\n\nPeewee (7 and under)\nFree!\nFree!\n\n\nFamily\n$45\n$60
URL:https://cedarriverbowmen.org/event/kill-zone-wire-shoot/
LOCATION:Cedar River Bowman Archery Club\, 37892 Enumclaw Franklin Road SE\, Enumclaw\, WA\, 98022\, United States
END:VEVENT
END:VCALENDAR