BEGIN:VCALENDAR
VERSION:2.0
PRODID:-//Cedar River Bowmen Archery Club - ECPv6.15.20//NONSGML v1.0//EN
CALSCALE:GREGORIAN
METHOD:PUBLISH
X-ORIGINAL-URL:https://cedarriverbowmen.org
X-WR-CALDESC:Events for Cedar River Bowmen Archery Club
REFRESH-INTERVAL;VALUE=DURATION:PT1H
X-Robots-Tag:noindex
X-PUBLISHED-TTL:PT1H
BEGIN:VTIMEZONE
TZID:America/Los_Angeles
BEGIN:DAYLIGHT
TZOFFSETFROM:-0800
TZOFFSETTO:-0700
TZNAME:PDT
DTSTART:20250309T100000
END:DAYLIGHT
BEGIN:STANDARD
TZOFFSETFROM:-0700
TZOFFSETTO:-0800
TZNAME:PST
DTSTART:20251102T090000
END:STANDARD
BEGIN:DAYLIGHT
TZOFFSETFROM:-0800
TZOFFSETTO:-0700
TZNAME:PDT
DTSTART:20260308T100000
END:DAYLIGHT
BEGIN:STANDARD
TZOFFSETFROM:-0700
TZOFFSETTO:-0800
TZNAME:PST
DTSTART:20261101T090000
END:STANDARD
BEGIN:DAYLIGHT
TZOFFSETFROM:-0800
TZOFFSETTO:-0700
TZNAME:PDT
DTSTART:20270314T100000
END:DAYLIGHT
BEGIN:STANDARD
TZOFFSETFROM:-0700
TZOFFSETTO:-0800
TZNAME:PST
DTSTART:20271107T090000
END:STANDARD
END:VTIMEZONE
BEGIN:VEVENT
DTSTART;TZID=America/Los_Angeles:20260425T070000
DTEND;TZID=America/Los_Angeles:20260426T143000
DTSTAMP:20260423T132239
CREATED:20251112T004413Z
LAST-MODIFIED:20260314T164134Z
UID:742-1777100400-1777213800@cedarriverbowmen.org
SUMMARY:Redding Warm Up & Buckle Shoot
DESCRIPTION:When\nSaturday: 7:00 AM to 4:30 PM\nSunday: 7:00 AM to 2:30 PM \n🏕️ Stay the weekend with free primitive camping! Bring a tent or RV/trailer! \nFree primitive camping and archery event is available to both members and non-members for this event. \n  \nTournament Info\nSafari-style shoot with shooting stakes for each style. Three courses to choose a starting point. \n🎯 30 – 3D safari targets \n🎯 2 Bowhunter classes: Fixed Pins or Movers (no glass) \n🎯 Marked yardages at shooting stakes \n🎯 Must shoot both days for awards! \n2-3-4 Award policy with 1st place belt buckles! \n Scorecards must be in by 2:30PM Sunday \nRange finders OK \nTwo (2) arrows from your shooting stake\nAll CRB club rules apply. \n  \nAdditional Buy Ins\n🏹 Extreme Shoot – $10 \n🏹 Poker Run – $10 \n  \nCook Shack\nThe Cook Shack serves breakfast and lunch Saturday and Sunday \n  \nRegistration\n\n\n\n\n1 DAY\n2 DAY\n\n\nADULT (18-64)\n$20\n$35\n\n\nSENIOR (65+)\n$15\n$25\n\n\nYOUNG ADULT (15-17)\n$15\n$25\n\n\nYOUTH (12-14)\n$10\n$20\n\n\nCUB (8-11)\n$5\n$15\n\n\nPEEWEE (7 AND UNDER)\nFREE\nFREE\n\n\nFAMILY\n$45\n$65\n\n\n\n¹Family: Parents and children in the same household.
URL:https://cedarriverbowmen.org/event/redding-warm-up-buckle-shoot/
LOCATION:Cedar River Bowman Archery Club\, 37892 Enumclaw Franklin Road SE\, Enumclaw\, WA\, 98022\, United States
END:VEVENT
END:VCALENDAR