BEGIN:VCALENDAR
VERSION:2.0
PRODID:-//Cedar River Bowmen Archery Club - ECPv6.15.20//NONSGML v1.0//EN
CALSCALE:GREGORIAN
METHOD:PUBLISH
X-WR-CALNAME:Cedar River Bowmen Archery Club
X-ORIGINAL-URL:https://cedarriverbowmen.org
X-WR-CALDESC:Events for Cedar River Bowmen Archery Club
REFRESH-INTERVAL;VALUE=DURATION:PT1H
X-Robots-Tag:noindex
X-PUBLISHED-TTL:PT1H
BEGIN:VTIMEZONE
TZID:America/Los_Angeles
BEGIN:DAYLIGHT
TZOFFSETFROM:-0800
TZOFFSETTO:-0700
TZNAME:PDT
DTSTART:20250309T100000
END:DAYLIGHT
BEGIN:STANDARD
TZOFFSETFROM:-0700
TZOFFSETTO:-0800
TZNAME:PST
DTSTART:20251102T090000
END:STANDARD
BEGIN:DAYLIGHT
TZOFFSETFROM:-0800
TZOFFSETTO:-0700
TZNAME:PDT
DTSTART:20260308T100000
END:DAYLIGHT
BEGIN:STANDARD
TZOFFSETFROM:-0700
TZOFFSETTO:-0800
TZNAME:PST
DTSTART:20261101T090000
END:STANDARD
BEGIN:DAYLIGHT
TZOFFSETFROM:-0800
TZOFFSETTO:-0700
TZNAME:PDT
DTSTART:20270314T100000
END:DAYLIGHT
BEGIN:STANDARD
TZOFFSETFROM:-0700
TZOFFSETTO:-0800
TZNAME:PST
DTSTART:20271107T090000
END:STANDARD
END:VTIMEZONE
BEGIN:VEVENT
DTSTART;TZID=America/Los_Angeles:20260627T070000
DTEND;TZID=America/Los_Angeles:20260628T143000
DTSTAMP:20260423T161843
CREATED:20251113T232208Z
LAST-MODIFIED:20251122T194859Z
UID:791-1782543600-1782657000@cedarriverbowmen.org
SUMMARY:Bownanza
DESCRIPTION:When\nSaturday: 7:00 AM\nSunday: 7:00 AM to 2:00 PM \n🏕️ Stay the weekend with free primitive camping! Bring a tent or RV/trailer! \nFree primitive camping and archery event is available to both members and non-members for this event. \n  \nTournament Info\nJoin us for our largest shoot of the year! Thousands of $$$ in door prizes and raffle drawings! \n  \n🎯 3 Courses – Choose your starting point \n🎯 40 targets on Saturday | 30 targets on Sunday \n🎯 Must shoot both days for rewards! \n🎯 Smoker Round: Saturday 5:30PM \n🎯Best of Both Worlds: A family friendly tournament with no more than one long shot per course (4 courses). After that\, maximum yardage for adults (50 yards)\, trad (32 yards)\, youth (40 yards)\, and cub (25 yards). \n🎯 Long Distance Class: Shoot from the red stake with a $10 buy in each day \n  \n Scorecards and Money dots must be in by 2:30PM Sunday \nRange finders OK \nOne (1) arrow from your shooting stake\nAll CRB club rules apply. \n  \nAdditional Buy Ins\n🏹 Poker Run – $10 \n  \nCook Shack\nThe Cook Shack serves breakfast and lunch Saturday and Sunday and dinner on Saturday at 4:30PM ($15) \n  \nRegistration\n \n¹Family: Parents and children in the same household.
URL:https://cedarriverbowmen.org/event/bownanza/
LOCATION:Cedar River Bowman Archery Club\, 37892 Enumclaw Franklin Road SE\, Enumclaw\, WA\, 98022\, United States
END:VEVENT
END:VCALENDAR