BEGIN:VCALENDAR
VERSION:2.0
PRODID:-//Cedar River Bowmen Archery Club - ECPv6.15.20//NONSGML v1.0//EN
CALSCALE:GREGORIAN
METHOD:PUBLISH
X-ORIGINAL-URL:https://cedarriverbowmen.org
X-WR-CALDESC:Events for Cedar River Bowmen Archery Club
REFRESH-INTERVAL;VALUE=DURATION:PT1H
X-Robots-Tag:noindex
X-PUBLISHED-TTL:PT1H
BEGIN:VTIMEZONE
TZID:America/Los_Angeles
BEGIN:DAYLIGHT
TZOFFSETFROM:-0800
TZOFFSETTO:-0700
TZNAME:PDT
DTSTART:20250309T100000
END:DAYLIGHT
BEGIN:STANDARD
TZOFFSETFROM:-0700
TZOFFSETTO:-0800
TZNAME:PST
DTSTART:20251102T090000
END:STANDARD
BEGIN:DAYLIGHT
TZOFFSETFROM:-0800
TZOFFSETTO:-0700
TZNAME:PDT
DTSTART:20260308T100000
END:DAYLIGHT
BEGIN:STANDARD
TZOFFSETFROM:-0700
TZOFFSETTO:-0800
TZNAME:PST
DTSTART:20261101T090000
END:STANDARD
BEGIN:DAYLIGHT
TZOFFSETFROM:-0800
TZOFFSETTO:-0700
TZNAME:PDT
DTSTART:20270314T100000
END:DAYLIGHT
BEGIN:STANDARD
TZOFFSETFROM:-0700
TZOFFSETTO:-0800
TZNAME:PST
DTSTART:20271107T090000
END:STANDARD
END:VTIMEZONE
BEGIN:VEVENT
DTSTART;TZID=America/Los_Angeles:20260207T130000
DTEND;TZID=America/Los_Angeles:20260207T143000
DTSTAMP:20260423T173732
CREATED:20251121T212912Z
LAST-MODIFIED:20251121T224921Z
UID:811-1770469200-1770474600@cedarriverbowmen.org
SUMMARY:Open House
DESCRIPTION:🎉Open House at Cedar River Bowmen🎉February 7\, 2026 AT 1:00PM– 2:30PM\nCurious about Cedar River Bowmen or haven’t visited in a while? Join us for our Open House! This event is designed for past members\, prospective members\, and anyone interested in exploring our ranges\, clubhouse\, courses\, and more. \nTake a guided tour of the facilities\, ask questions\, and get a feel for what our club offers! 3D ranges to leagues\, shoots\, and community events. Whether you’re brand new to archery or looking to reconnect\, we’d love to show you around. \nThis event is free and open to the public. We hope to see you there! \n 
URL:https://cedarriverbowmen.org/event/open-house/
LOCATION:Cedar River Bowman Archery Club\, 37892 Enumclaw Franklin Road SE\, Enumclaw\, WA\, 98022\, United States
END:VEVENT
END:VCALENDAR