BEGIN:VCALENDAR
VERSION:2.0
PRODID:-//Cedar River Bowmen Archery Club - ECPv6.15.20//NONSGML v1.0//EN
CALSCALE:GREGORIAN
METHOD:PUBLISH
X-WR-CALNAME:Cedar River Bowmen Archery Club
X-ORIGINAL-URL:https://cedarriverbowmen.org
X-WR-CALDESC:Events for Cedar River Bowmen Archery Club
REFRESH-INTERVAL;VALUE=DURATION:PT1H
X-Robots-Tag:noindex
X-PUBLISHED-TTL:PT1H
BEGIN:VTIMEZONE
TZID:America/Los_Angeles
BEGIN:DAYLIGHT
TZOFFSETFROM:-0800
TZOFFSETTO:-0700
TZNAME:PDT
DTSTART:20250309T100000
END:DAYLIGHT
BEGIN:STANDARD
TZOFFSETFROM:-0700
TZOFFSETTO:-0800
TZNAME:PST
DTSTART:20251102T090000
END:STANDARD
BEGIN:DAYLIGHT
TZOFFSETFROM:-0800
TZOFFSETTO:-0700
TZNAME:PDT
DTSTART:20260308T100000
END:DAYLIGHT
BEGIN:STANDARD
TZOFFSETFROM:-0700
TZOFFSETTO:-0800
TZNAME:PST
DTSTART:20261101T090000
END:STANDARD
BEGIN:DAYLIGHT
TZOFFSETFROM:-0800
TZOFFSETTO:-0700
TZNAME:PDT
DTSTART:20270314T100000
END:DAYLIGHT
BEGIN:STANDARD
TZOFFSETFROM:-0700
TZOFFSETTO:-0800
TZNAME:PST
DTSTART:20271107T090000
END:STANDARD
END:VTIMEZONE
BEGIN:VEVENT
DTSTART;TZID=America/Los_Angeles:20260926T163000
DTEND;TZID=America/Los_Angeles:20260926T200000
DTSTAMP:20260423T144834
CREATED:20251121T225205Z
LAST-MODIFIED:20260214T011826Z
UID:819-1790440200-1790452800@cedarriverbowmen.org
SUMMARY:Rocky Horror Turkey Shoot
DESCRIPTION:When \nPotluck dinner at 5:00PM – 6:30PM\nShoot Starts Just After Dark – Around 7:00PM \nComplimentary BBQ hamburgers and drinks\, courtesy of CRB.\nBring appetizers\, chips\, fruit\, side dishes\, desserts\, etc. \nTournament Info\nWatch things get absolutely shaken up! Bring your headlamps\, flashlights\, and spotlights because this shoot takes place in the dark! Groups must have 4–5 shooters each. \nEach target scores something… but you won’t know what until after you shoot it. At the target butt you might discover a “+”\, a “–”\, a zero\, or something delightfully chaotic like:\n• Trade scorecards with someone in your group• Reset to zero• Double your highest (or lowest!) score• Or another surprise twist! \nCome fun… stay for the chaos! \n  \nCourses close at 10PM \nOne (1) arrows from your shooting stake\nAll CRB club rules apply. \n  \nAwards\nGift cards for men’s and women’s categories: \n\nHighest Score\nLowest Score\nClosest to Zero\n\n  \nRegistration\nThis is a member’s only event but members may bring guests ($5 each to shoot).\nNon-members must sign a CRB waiver.
URL:https://cedarriverbowmen.org/event/rocky-horror-turkey-shoot/
LOCATION:Cedar River Bowman Archery Club\, 37892 Enumclaw Franklin Road SE\, Enumclaw\, WA\, 98022\, United States
END:VEVENT
END:VCALENDAR