BEGIN:VCALENDAR
VERSION:2.0
PRODID:-//Cedar River Bowmen Archery Club - ECPv6.15.20//NONSGML v1.0//EN
CALSCALE:GREGORIAN
METHOD:PUBLISH
X-WR-CALNAME:Cedar River Bowmen Archery Club
X-ORIGINAL-URL:https://cedarriverbowmen.org
X-WR-CALDESC:Events for Cedar River Bowmen Archery Club
REFRESH-INTERVAL;VALUE=DURATION:PT1H
X-Robots-Tag:noindex
X-PUBLISHED-TTL:PT1H
BEGIN:VTIMEZONE
TZID:America/Los_Angeles
BEGIN:DAYLIGHT
TZOFFSETFROM:-0800
TZOFFSETTO:-0700
TZNAME:PDT
DTSTART:20250309T100000
END:DAYLIGHT
BEGIN:STANDARD
TZOFFSETFROM:-0700
TZOFFSETTO:-0800
TZNAME:PST
DTSTART:20251102T090000
END:STANDARD
BEGIN:DAYLIGHT
TZOFFSETFROM:-0800
TZOFFSETTO:-0700
TZNAME:PDT
DTSTART:20260308T100000
END:DAYLIGHT
BEGIN:STANDARD
TZOFFSETFROM:-0700
TZOFFSETTO:-0800
TZNAME:PST
DTSTART:20261101T090000
END:STANDARD
BEGIN:DAYLIGHT
TZOFFSETFROM:-0800
TZOFFSETTO:-0700
TZNAME:PDT
DTSTART:20270314T100000
END:DAYLIGHT
BEGIN:STANDARD
TZOFFSETFROM:-0700
TZOFFSETTO:-0800
TZNAME:PST
DTSTART:20271107T090000
END:STANDARD
END:VTIMEZONE
BEGIN:VEVENT
DTSTART;TZID=America/Los_Angeles:20260108T183000
DTEND;TZID=America/Los_Angeles:20260108T200000
DTSTAMP:20260423T213643
CREATED:20251227T234927Z
LAST-MODIFIED:20251227T234927Z
UID:1162-1767897000-1767902400@cedarriverbowmen.org
SUMMARY:2026 Board Elections
DESCRIPTION:CRB BOARD ELECTIONS 2026 \nElections for Cedar River Bowmen Board of Director positions will be done at the January 8th\, 2026\, meeting at 6:30PM in the Clubhouse. All positions are open at elections. \nCurrently we have members for certain positions\, although all positions are open. The following positions still need a candidate: \nOne (1) Trustee Position (2-year position) \nTrustees shall be responsible for the following duties: \nServe as the voice of the membership. \nEnsure present and future CRB policies and procedures are in the best interests of the membership. \nShall serve on committees as approved by the Board of Directors and/or as appointed by the President. \nPerform such other duties as may be indicated by the title and from time to time as prescribed by the President\, the Board of Directors\, Constitution\, Bylaws\, or Appendices. \nPresident (TBD DOE) \nThe President shall be responsible for the following duties: \nServe as Chairman of The Board of Directors\, preside at all meetings of CRB\, appoint all Committee Chairmen\, oversee all the activities of the Board of Directors and of CRB\, and shall have such other powers and duties from time to time as prescribed by the Board of Directors\, Constitution\, Bylaws\, Appendices\, or as shall be incident to the Office. \nSecretary (TBD DOE) \nThe Secretary shall be responsible for the following duties: \nKeep the minutes of all business meetings of CRB. \nMinutes from the monthly Board of Directors “regular” meeting shall be in a “group email” format to the Board of Directors within five (5) days following a Board of Directors “regular” meeting. The Board of Directors shall review the minutes and an email vote to accept or reject the minutes shall follow within forty-eight (48) hours after receiving the Board of Directors “regular” meeting minutes from the Secretary. This special voting process shall carry the same requirements regarding a quorum to be considered official (as if voting in person) and a minimum of a majority vote by the Board of Directors shall be required. \nThe results of such a voting process shall be recorded by the Secretary and made available to the membership through the next Board of Directors “regular” meeting minutes. \nMeeting minutes shall then be published in the current month’s “Puffs of Smoke” (CRB Membership Newsletter). \nMaintain the records of CRB. \nGive notifications of all meetings of CRB. \nConduct correspondence. \nPerform such other duties as may be indicated by the title and from time to time as prescribed by the Board of Directors\, Constitution\, Bylaws\, or Appendices. \n  \nYou must be a current member in good standing to run for a position. \nIf you’d like to join the Board\, please reply to contact@cedarriverbowmen.org.  \nThank you\, \nCRB
URL:https://cedarriverbowmen.org/event/2026-board-elections/
LOCATION:Cedar River Bowman Archery Club\, 37892 Enumclaw Franklin Road SE\, Enumclaw\, WA\, 98022\, United States
END:VEVENT
END:VCALENDAR