BEGIN:VCALENDAR
VERSION:2.0
PRODID:-//Cedar River Bowmen Archery Club - ECPv6.15.20//NONSGML v1.0//EN
CALSCALE:GREGORIAN
METHOD:PUBLISH
X-ORIGINAL-URL:https://cedarriverbowmen.org
X-WR-CALDESC:Events for Cedar River Bowmen Archery Club
REFRESH-INTERVAL;VALUE=DURATION:PT1H
X-Robots-Tag:noindex
X-PUBLISHED-TTL:PT1H
BEGIN:VTIMEZONE
TZID:America/Los_Angeles
BEGIN:DAYLIGHT
TZOFFSETFROM:-0800
TZOFFSETTO:-0700
TZNAME:PDT
DTSTART:20240310T100000
END:DAYLIGHT
BEGIN:STANDARD
TZOFFSETFROM:-0700
TZOFFSETTO:-0800
TZNAME:PST
DTSTART:20241103T090000
END:STANDARD
BEGIN:DAYLIGHT
TZOFFSETFROM:-0800
TZOFFSETTO:-0700
TZNAME:PDT
DTSTART:20250309T100000
END:DAYLIGHT
BEGIN:STANDARD
TZOFFSETFROM:-0700
TZOFFSETTO:-0800
TZNAME:PST
DTSTART:20251102T090000
END:STANDARD
BEGIN:DAYLIGHT
TZOFFSETFROM:-0800
TZOFFSETTO:-0700
TZNAME:PDT
DTSTART:20260308T100000
END:DAYLIGHT
BEGIN:STANDARD
TZOFFSETFROM:-0700
TZOFFSETTO:-0800
TZNAME:PST
DTSTART:20261101T090000
END:STANDARD
END:VTIMEZONE
BEGIN:VEVENT
DTSTART;TZID=America/Los_Angeles:20250628T000000
DTEND;TZID=America/Los_Angeles:20250629T235959
DTSTAMP:20260424T031619
CREATED:20250619T155008Z
LAST-MODIFIED:20251013T231045Z
UID:254-1751068800-1751241599@cedarriverbowmen.org
SUMMARY:Bownanza
DESCRIPTION:Date & Times:\nCourses open Saturday June 28\, 2025 at 7:00AM and closes on Sunday June 29\, 2025 at 2:00PM. \nTournament Details:\n40 Targets Saturday / 30 Targets Sunday. Must Shoot Both Days For Awards. \nBest of Both Worlds #1:\nFamily friendly tournament with no more than one long shot per course (4 courses). \nBest of Both Worlds #2:\nLong distance class\, shooters will shoot from the “red” stake with a $10 buy in each day. \nMaximum Yardage: (One arrow from your shooting stake)\nADULTS = 50 YARDS\nTRAD = 32 YARDS\nYOUTH = 40 YARDS\nCUB = 25 YARDS \n Poker Run \nSmoker Round:\nSaturday 5:30PM \nRange Finders OK\n2 Bowhunter Classes: Fixed Pins OR Mover (NO GLASS).\nScore Cards and Money Dots must be turned in by 2:30PM on Sunday.\nAwards\, Money Dots\, etc.\, will Start at 3:00PM on Sunday. \nAll Cedar River Bowmen Rules Apply! \n  \nCook Shack\nBreakfast and Lunch served Saturday and Sunday\nSaturday Evening Dinner: BEEF BRISKET with sides $15 (4:30 PM) \n  \nRegistration Fees
URL:https://cedarriverbowmen.org/event/2025-bownanza/
LOCATION:Cedar River Bowman Archery Club\, 37892 Enumclaw Franklin Road SE\, Enumclaw\, WA\, 98022\, United States
END:VEVENT
END:VCALENDAR