BEGIN:VCALENDAR
VERSION:2.0
PRODID:-//Cedar River Bowmen Archery Club - ECPv6.15.20//NONSGML v1.0//EN
CALSCALE:GREGORIAN
METHOD:PUBLISH
X-WR-CALNAME:Cedar River Bowmen Archery Club
X-ORIGINAL-URL:https://cedarriverbowmen.org
X-WR-CALDESC:Events for Cedar River Bowmen Archery Club
REFRESH-INTERVAL;VALUE=DURATION:PT1H
X-Robots-Tag:noindex
X-PUBLISHED-TTL:PT1H
BEGIN:VTIMEZONE
TZID:America/Los_Angeles
BEGIN:DAYLIGHT
TZOFFSETFROM:-0800
TZOFFSETTO:-0700
TZNAME:PDT
DTSTART:20250309T100000
END:DAYLIGHT
BEGIN:STANDARD
TZOFFSETFROM:-0700
TZOFFSETTO:-0800
TZNAME:PST
DTSTART:20251102T090000
END:STANDARD
BEGIN:DAYLIGHT
TZOFFSETFROM:-0800
TZOFFSETTO:-0700
TZNAME:PDT
DTSTART:20260308T100000
END:DAYLIGHT
BEGIN:STANDARD
TZOFFSETFROM:-0700
TZOFFSETTO:-0800
TZNAME:PST
DTSTART:20261101T090000
END:STANDARD
BEGIN:DAYLIGHT
TZOFFSETFROM:-0800
TZOFFSETTO:-0700
TZNAME:PDT
DTSTART:20270314T100000
END:DAYLIGHT
BEGIN:STANDARD
TZOFFSETFROM:-0700
TZOFFSETTO:-0800
TZNAME:PST
DTSTART:20271107T090000
END:STANDARD
END:VTIMEZONE
BEGIN:VEVENT
DTSTART;TZID=America/Los_Angeles:20260314T070000
DTEND;TZID=America/Los_Angeles:20260315T143000
DTSTAMP:20260423T145156
CREATED:20251013T161217Z
LAST-MODIFIED:20260314T164402Z
UID:555-1773471600-1773585000@cedarriverbowmen.org
SUMMARY:Demon Apocalypse
DESCRIPTION:When\nSaturday: 7:00 AM to 4:30 PM\nSunday: 7:00 AM to 2:30 PM \n🏕️ Stay the weekend with free primitive camping! Bring a tent or RV/trailer! \nFree primitive camping and archery event is available to both members and non-members for this event. \n  \nTournament Info\nSafari-style shoot with shooting stakes for each style. Three courses to choose a starting point. \n🎯 30 Paper zombie/demon/creature targets each day \n🎯 1 Arrow at large dot and 1 arrow at small dot from your shooting stake \n🎯 Unmarked yardages at shooting stakes \n🎯 Must shoot both days for awards! \n Scorecards must be in by 3:00PM Sunday \nRange finders OK \nTwo (2) arrows from your shooting stake\nAll CRB club rules apply. \n  \nAdditional Buy Ins\n🏹 Extreme Shoot – $10 \n🏹 Poker Run – $10 \n  \nCook Shack\nThe Cook Shack serves breakfast and lunch Saturday and Sunday \n  \nRegistration\n \n¹Family: Parents and children in the same household.
URL:https://cedarriverbowmen.org/event/demon-apocalypse/
LOCATION:Cedar River Bowman Archery Club\, 37892 Enumclaw Franklin Road SE\, Enumclaw\, WA\, 98022\, United States
END:VEVENT
END:VCALENDAR